BEGIN:VCALENDAR
CALSCALE:GREGORIAN
X-WR-TIMEZONE;VALUE=TEXT:America/New_York
PRODID:-//Apple Computer\, Inc//iCal 1.0//EN
X-WR-RELCALID;VALUE=TEXT:1CA4D40E-2E46-11D7-9F7E-00039303E4E2
X-WR-CALNAME;VALUE=TEXT:Go Away
VERSION:2.0
BEGIN:VEVENT
SEQUENCE:4
DTSTAMP:20030122T201657Z
SUMMARY:Please use http://ical.mac.com/ical/US32Holidays.ics instead of 
 this calendar.  -thanks!
UID:3CB84F7C-2E46-11D7-9F7E-00039303E4E2
DTSTART;TZID=America/New_York:20030122T094500
DURATION:PT15M
RRULE:FREQ=DAILY;INTERVAL=1
BEGIN:VALARM
TRIGGER;VALUE=DURATION:-PT15M
ACTION:DISPLAY
DESCRIPTION:Event reminder
END:VALARM
END:VEVENT
END:VCALENDAR
